BEGIN:VCALENDAR
PRODID:-//eluceo/ical//2.0/EN
VERSION:2.0
CALSCALE:GREGORIAN
BEGIN:VEVENT
UID:ce12d8d1fce97624b8290a830934c3e5
DTSTAMP:20260420T013230Z
SUMMARY:Frühjahrskonzert des Musikkorps der Stadt Olbernhau
DESCRIPTION:Zum Auftakt in die neue Saison präsentiert das Musikkorps ein 
 abwechslungsreiches Konzertprogramm mit neu einstudierten Stücken. Ein mu
 sikalischer Nachmittag mit vielfältigen Klangfarben und hoher Qualität.
URL:https://www.meinplaner.com
DTSTART;TZID=Europe/Amsterdam:20260510T150000
DTEND;TZID=Europe/Amsterdam:20260510T170000
LOCATION:An der Kreuztanne 2\, 09544 Neuhausen/Erzgeb.
BEGIN:VALARM
ACTION:DISPLAY
DESCRIPTION:Erinnerung: Frühjahrskonzert des Musikkorps der Stadt Olbernha
 u beginnt in 1 Stunde
TRIGGER;RELATED=END:-PT1H
END:VALARM
END:VEVENT
END:VCALENDAR
