BEGIN:VCALENDAR
PRODID:-//eluceo/ical//2.0/EN
VERSION:2.0
CALSCALE:GREGORIAN
BEGIN:VEVENT
UID:a22ada497f378057fa06234672bb4ecd
DTSTAMP:20260420T235221Z
SUMMARY:Lee Cronin‘s The Mummy
DESCRIPTION:Das scheinbar perfekte Familienglück von Charlie und seiner Fr
 au wird auf die Probe gestellt\, als ihre Tochter Katie nach einem mysteri
 ösen Fluch verschwindet\, nur um Jahre später mit einer dunklen Macht zu
 rückzukehren und die Familie in Gefahr zu bringen.
URL:https://www.meinplaner.com
DTSTART;TZID=Europe/Amsterdam:20260421T200000
DTEND;TZID=Europe/Amsterdam:20260421T220000
LOCATION:Poetenweg 6-8\, 08056 Zwickau
BEGIN:VALARM
ACTION:DISPLAY
DESCRIPTION:Erinnerung: Lee Cronin‘s The Mummy beginnt in 1 Stunde
TRIGGER;RELATED=END:-PT1H
END:VALARM
END:VEVENT
BEGIN:VEVENT
UID:558accd843250716897b49653ffbcfbd
DTSTAMP:20260420T235221Z
SUMMARY:Lee Cronin‘s The Mummy
DESCRIPTION:Das scheinbar perfekte Familienglück von Charlie und seiner Fr
 au wird auf die Probe gestellt\, als ihre Tochter Katie nach einem mysteri
 ösen Fluch verschwindet\, nur um Jahre später mit einer dunklen Macht zu
 rückzukehren und die Familie in Gefahr zu bringen.
URL:https://www.meinplaner.com
DTSTART;TZID=Europe/Amsterdam:20260421T170000
DTEND;TZID=Europe/Amsterdam:20260421T190000
LOCATION:Poetenweg 6-8\, 08056 Zwickau
BEGIN:VALARM
ACTION:DISPLAY
DESCRIPTION:Erinnerung: Lee Cronin‘s The Mummy beginnt in 1 Stunde
TRIGGER;RELATED=END:-PT1H
END:VALARM
END:VEVENT
END:VCALENDAR
