BEGIN:VCALENDAR
PRODID:-//eluceo/ical//2.0/EN
VERSION:2.0
CALSCALE:GREGORIAN
BEGIN:VEVENT
UID:d0914559c5c556e09814d394da36fc0a
DTSTAMP:20260422T014035Z
SUMMARY:Regional & saisonal oder international inspiriert
DESCRIPTION:Zwei à la carte Restaurants\, die gemütliche Forsthausstube u
 nd der lichtdurchflutete Wintergarten\, bieten frische\, regionale & saiso
 nale Küche - von traditionellen Spezialitäten bis hin zu international i
 nspirierten Gerichten ist für jeden Gast was dabei.
URL:https://www.meinplaner.com
DTSTART;TZID=Europe/Amsterdam:20260422T113000
DTEND;TZID=Europe/Amsterdam:20260422T220000
LOCATION:Rabensteiner Str. 17\, 09224 Chemnitz
BEGIN:VALARM
ACTION:DISPLAY
DESCRIPTION:Erinnerung: Regional & saisonal oder international inspiriert b
 eginnt in 1 Stunde
TRIGGER;RELATED=END:-PT1H
END:VALARM
END:VEVENT
END:VCALENDAR
