BEGIN:VCALENDAR
PRODID:-//eluceo/ical//2.0/EN
VERSION:2.0
CALSCALE:GREGORIAN
BEGIN:VEVENT
UID:7b59aeb884319859c3ed78ba3f3e1b29
DTSTAMP:20260419T233925Z
SUMMARY:28. Chemnitzer Schultheaterwoche: Die Schildbürger 2026
DESCRIPTION:Die Schildbürger aus Schilda galten einst als klug und arbeite
 ten an Fürstenhöfen. Um nach Hause zu kommen\, lösten sie Aufgaben mit 
 absurden Ideen – etwa Licht in Säcken zu transportieren. Welche verrüc
 kten Einfälle gibt es heute für Häuser und Energie?
URL:https://www.meinplaner.com
DTSTART;TZID=Europe/Amsterdam:20260420T100000
DTEND;TZID=Europe/Amsterdam:20260420T120000
LOCATION:Altchemnitzer Str. 27\, 09120 Chemnitz
BEGIN:VALARM
ACTION:DISPLAY
DESCRIPTION:Erinnerung: 28. Chemnitzer Schultheaterwoche: Die Schildbürger
  2026 beginnt in 1 Stunde
TRIGGER;RELATED=END:-PT1H
END:VALARM
END:VEVENT
END:VCALENDAR
