BEGIN:VCALENDAR
PRODID:-//eluceo/ical//2.0/EN
VERSION:2.0
CALSCALE:GREGORIAN
BEGIN:VEVENT
UID:3e5f3f71f925a7823afec449bfb72c85
DTSTAMP:20260424T144307Z
SUMMARY:Führung: Ein „Rosswerk“ als Bergbau-Schauanlage
DESCRIPTION:Neben der Vorführung der Göpelfunktion\, an den Wochenenden a
 uch mit Pferden\, gibt es eine historische Bergschmiede\, wo Spindelpresse
  und Schmiedefeuer mit Amboss präsentiert werden. Auch der Märchenberg d
 es Schnitzvereins ist zu bestaunen.
URL:https://www.meinplaner.com
DTSTART;TZID=Europe/Amsterdam:20260425T143000
DTEND;TZID=Europe/Amsterdam:20260425T163000
LOCATION:Lautaer Hauptstr. 12\, 09496 Marienberg
BEGIN:VALARM
ACTION:DISPLAY
DESCRIPTION:Erinnerung: Führung: Ein „Rosswerk“ als Bergbau-Schauanlag
 e beginnt in 1 Stunde
TRIGGER;RELATED=END:-PT1H
END:VALARM
END:VEVENT
BEGIN:VEVENT
UID:42b27adde5771ec12b2a9d1cc1238312
DTSTAMP:20260424T144307Z
SUMMARY:Führung: Ein „Rosswerk“ als Bergbau-Schauanlage
DESCRIPTION:Neben der Vorführung der Göpelfunktion\, an den Wochenenden a
 uch mit Pferden\, gibt es eine historische Bergschmiede\, wo Spindelpresse
  und Schmiedefeuer mit Amboss präsentiert werden. Auch der Märchenberg d
 es Schnitzvereins ist zu bestaunen.
URL:https://www.meinplaner.com
DTSTART;TZID=Europe/Amsterdam:20260425T110000
DTEND;TZID=Europe/Amsterdam:20260425T130000
LOCATION:Lautaer Hauptstr. 12\, 09496 Marienberg
BEGIN:VALARM
ACTION:DISPLAY
DESCRIPTION:Erinnerung: Führung: Ein „Rosswerk“ als Bergbau-Schauanlag
 e beginnt in 1 Stunde
TRIGGER;RELATED=END:-PT1H
END:VALARM
END:VEVENT
BEGIN:VEVENT
UID:c55b1418bff01bdcf6c2db15eea4818d
DTSTAMP:20260424T144307Z
SUMMARY:Führung: Ein „Rosswerk“ als Bergbau-Schauanlage
DESCRIPTION:Neben der Vorführung der Göpelfunktion\, an den Wochenenden a
 uch mit Pferden\, gibt es eine historische Bergschmiede\, wo Spindelpresse
  und Schmiedefeuer mit Amboss präsentiert werden. Auch der Märchenberg d
 es Schnitzvereins ist zu bestaunen.
URL:https://www.meinplaner.com
DTSTART;TZID=Europe/Amsterdam:20260425T130000
DTEND;TZID=Europe/Amsterdam:20260425T150000
LOCATION:Lautaer Hauptstr. 12\, 09496 Marienberg
BEGIN:VALARM
ACTION:DISPLAY
DESCRIPTION:Erinnerung: Führung: Ein „Rosswerk“ als Bergbau-Schauanlag
 e beginnt in 1 Stunde
TRIGGER;RELATED=END:-PT1H
END:VALARM
END:VEVENT
END:VCALENDAR
