BEGIN:VCALENDAR
PRODID:-//eluceo/ical//2.0/EN
VERSION:2.0
CALSCALE:GREGORIAN
BEGIN:VEVENT
UID:0ef7d075ff6bef40acb03bd892a1f336
DTSTAMP:20260423T121137Z
SUMMARY:Museumsnacht in der Hartmannfabrik 
DESCRIPTION:Bei einer besonderen Führung schlüpft eine Gästeführerin in
  die Rolle von Berta Hartmann und nimmt Besucher:innen mit auf eine Zeitre
 ise durch die Geschichte der Fabrik und der Industriekultur Chemnitz.
URL:https://www.meinplaner.com
DTSTART;TZID=Europe/Amsterdam:20260509T180000
DTEND;TZID=Europe/Amsterdam:20260510T010000
LOCATION:Fabrikstraße  11\, 09111 Chemnitz
BEGIN:VALARM
ACTION:DISPLAY
DESCRIPTION:Erinnerung: Museumsnacht in der Hartmannfabrik  beginnt in 1 St
 unde
TRIGGER;RELATED=END:-PT1H
END:VALARM
END:VEVENT
END:VCALENDAR
