BEGIN:VCALENDAR
PRODID:-//eluceo/ical//2.0/EN
VERSION:2.0
CALSCALE:GREGORIAN
BEGIN:VEVENT
UID:2fd15b505e74ae843ea57c3cc077aff2
DTSTAMP:20260419T133806Z
SUMMARY:Das Kleine Wir
DESCRIPTION:Ben u. Emma sind beste Freunde und erleben gemeinsam Abenteuer.
  Nach einem Streit verschwindet ihr WIR\, das ICH wird immer lauter. Ohne 
 WIR fehlt der Spaß. Eine warmherzige Geschichte über Freundschaft und di
 e Frage: Wie finden beide zurück zum gemeinsamen WIR
URL:https://www.meinplaner.com
DTSTART;TZID=Europe/Amsterdam:20260421T093000
DTEND;TZID=Europe/Amsterdam:20260421T113000
LOCATION:Gewandhausstr. 3\, 08056 Zwickau
BEGIN:VALARM
ACTION:DISPLAY
DESCRIPTION:Erinnerung: Das Kleine Wir beginnt in 1 Stunde
TRIGGER;RELATED=END:-PT1H
END:VALARM
END:VEVENT
END:VCALENDAR
