BEGIN:VCALENDAR
PRODID:-//eluceo/ical//2.0/EN
VERSION:2.0
CALSCALE:GREGORIAN
BEGIN:VEVENT
UID:08c300d60f598d26265dd5205f25d663
DTSTAMP:20260423T190807Z
SUMMARY:Köstlich\, originell\, pfiffig & frisch 
DESCRIPTION:Unter dem Slogan köstlich\, originell\, pfiffig & frisch wird 
 Gästen eine spannende Mischung von originellen Salaten\, traditionellen G
 erichten pfiffig zubereitet bis zu vegetarischen köstlichen Kreationen ge
 boten. Das Haus ist für gelungene Feiern ein feiner Ort
URL:https://www.meinplaner.com
DTSTART;TZID=Europe/Amsterdam:20260423T113000
DTEND;TZID=Europe/Amsterdam:20260423T200000
LOCATION:Dresdner Str. 74\, 09557 Flöha
BEGIN:VALARM
ACTION:DISPLAY
DESCRIPTION:Erinnerung: Köstlich\, originell\, pfiffig & frisch  beginnt i
 n 1 Stunde
TRIGGER;RELATED=END:-PT1H
END:VALARM
END:VEVENT
END:VCALENDAR
