BEGIN:VCALENDAR
PRODID:-//eluceo/ical//2.0/EN
VERSION:2.0
CALSCALE:GREGORIAN
BEGIN:VEVENT
UID:724e3f7a0c2964c4516a7902307fe4a2
DTSTAMP:20260420T063543Z
SUMMARY:Sommeranfang mit einem Hutcafé
DESCRIPTION:Der Sommeranfang im Hutcafé verspricht ein unvergessliches Erl
 ebnis: Gäste sind herzlich eingeladen\, ihre schönsten Hüte zu tragen\,
  während sie bei Live-Musik süße Leckereien genießen und sich auf zahl
 reiche weitere Überraschungen freuen können.
URL:https://www.meinplaner.com
DTSTART;TZID=Europe/Amsterdam:20260621T140000
DTEND;TZID=Europe/Amsterdam:20260621T180000
LOCATION:Karlsbaderstraße 113\, 08289 Schneeberg
BEGIN:VALARM
ACTION:DISPLAY
DESCRIPTION:Erinnerung: Sommeranfang mit einem Hutcafé beginnt in 1 Stunde
TRIGGER;RELATED=END:-PT1H
END:VALARM
END:VEVENT
END:VCALENDAR
