BEGIN:VCALENDAR
PRODID:-//eluceo/ical//2.0/EN
VERSION:2.0
CALSCALE:GREGORIAN
BEGIN:VEVENT
UID:127270ad7628f01bdfb32180ca07e052
DTSTAMP:20260420T191235Z
SUMMARY:Regio-Naschmarkt am Güterboden
DESCRIPTION:Der Regio-Naschmarkt „LEADER kann LECKER!“ bringt regionale
  Erzeuger\, Direktvermarkter & Vereine zusammen. Die kulinarische Vielfalt
  der Region lädt zum Probieren\, Genießen und Entdecken ein – ein genu
 ssvoller Markt für Groß & Klein.
URL:https://www.meinplaner.com
DTSTART;TZID=Europe/Amsterdam:20260426T110000
DTEND;TZID=Europe/Amsterdam:20260426T160000
LOCATION:Güterstraße \, 09385 Lugau/Erzgeb.
BEGIN:VALARM
ACTION:DISPLAY
DESCRIPTION:Erinnerung: Regio-Naschmarkt am Güterboden beginnt in 1 Stunde
TRIGGER;RELATED=END:-PT1H
END:VALARM
END:VEVENT
END:VCALENDAR
