BEGIN:VCALENDAR
PRODID:-//eluceo/ical//2.0/EN
VERSION:2.0
CALSCALE:GREGORIAN
BEGIN:VEVENT
UID:6f5f4a6082bdb8be6594fdb7b410476c
DTSTAMP:20260423T063358Z
SUMMARY:Kreativangebot Makramee - Schlüsselanhänger
DESCRIPTION:Unter Anleitung von Frau Schlegel wird ein individueller Schlü
 sselanhänger gestaltet. Die Kursgebühr beträgt 18 € und umfasst sämt
 liches Material. 
URL:https://www.meinplaner.com
DTSTART;TZID=Europe/Amsterdam:20260427T183000
DTEND;TZID=Europe/Amsterdam:20260427T203000
LOCATION:Freiberger Str. 33\, 09488 Thermalbad Wiesenbad
BEGIN:VALARM
ACTION:DISPLAY
DESCRIPTION:Erinnerung: Kreativangebot Makramee - Schlüsselanhänger begin
 nt in 1 Stunde
TRIGGER;RELATED=END:-PT1H
END:VALARM
END:VEVENT
END:VCALENDAR
