BEGIN:VCALENDAR
PRODID:-//eluceo/ical//2.0/EN
VERSION:2.0
CALSCALE:GREGORIAN
BEGIN:VEVENT
UID:e03b0c8dff7657ee5c8c6b214c46c5fa
DTSTAMP:20260423T190526Z
SUMMARY:Mittagsmenü
DESCRIPTION:Mittagszeit\, japanisch inspiriert: Frische Ramen\, Currys\, Su
 shi-Rolls und Lunch-Sets sorgen für Abwechslung und Genuss. Perfekt für 
 die kurze Pause oder den entspannten Business-Lunch. Dienstag bis Freitag 
 zur Mittagszeit.
URL:https://www.meinplaner.com
DTSTART;TZID=Europe/Amsterdam:20260424T113000
DTEND;TZID=Europe/Amsterdam:20260424T140000
LOCATION:Straße der Nationen 104\, 09111 Chemnitz
BEGIN:VALARM
ACTION:DISPLAY
DESCRIPTION:Erinnerung: Mittagsmenü beginnt in 1 Stunde
TRIGGER;RELATED=END:-PT1H
END:VALARM
END:VEVENT
END:VCALENDAR
