BEGIN:VCALENDAR
PRODID:-//eluceo/ical//2.0/EN
VERSION:2.0
CALSCALE:GREGORIAN
BEGIN:VEVENT
UID:d40a9becf3fa96ecb1f296fcfbd39f6f
DTSTAMP:20260421T162141Z
SUMMARY:Mitmachen. Tanz- und Theaterkurse des Mondstaubtheaters
DESCRIPTION:Lust auf Schauspiel oder Tanz – oder beides? In den Kursen we
 rden Tanz- und Theatertechniken erforscht\, die auf das Spiel auf der Büh
 ne vorbereiten. Vorkenntnisse sind nicht nötig – wichtig sind Neugier\,
  Freude an Bewegung und Lust auf Ausdruck.
URL:https://www.meinplaner.com
DTSTART;TZID=Europe/Amsterdam:20260421T154500
DTEND;TZID=Europe/Amsterdam:20260421T200000
LOCATION:Horchstr. 2\, 08058 Zwickau
BEGIN:VALARM
ACTION:DISPLAY
DESCRIPTION:Erinnerung: Mitmachen. Tanz- und Theaterkurse des Mondstaubthea
 ters beginnt in 1 Stunde
TRIGGER;RELATED=END:-PT1H
END:VALARM
END:VEVENT
END:VCALENDAR
