BEGIN:VCALENDAR
PRODID:-//eluceo/ical//2.0/EN
VERSION:2.0
CALSCALE:GREGORIAN
BEGIN:VEVENT
UID:5e728e6f773b52252097b875be454271
DTSTAMP:20260426T023934Z
SUMMARY:GutBehütet 
DESCRIPTION:Ein stilvoller Abend voller Mode\, Design und Kreativität: Mit
  Modenschauen\, Hutpräsentation\, Kunst\, Lesung und inspirierenden Ausst
 ellern. Netzwerken in besonderer Atmosphäre – inkl. Fingerfoodbuffet.
URL:https://www.meinplaner.com
DTSTART;TZID=Europe/Amsterdam:20260828T180000
DTEND;TZID=Europe/Amsterdam:20260828T200000
LOCATION:Wilhermsdorfer Str. 43\, 09387 Jahnsdorf/Erzgeb.
BEGIN:VALARM
ACTION:DISPLAY
DESCRIPTION:Erinnerung: GutBehütet  beginnt in 1 Stunde
TRIGGER;RELATED=END:-PT1H
END:VALARM
END:VEVENT
END:VCALENDAR
