BEGIN:VCALENDAR
PRODID:-//eluceo/ical//2.0/EN
VERSION:2.0
CALSCALE:GREGORIAN
BEGIN:VEVENT
UID:6fd62a03629a38b254c1e7e5db8f2ac4
DTSTAMP:20260424T234118Z
SUMMARY:Frühlingsvolksfest
DESCRIPTION:14 Tage Rummel in Zwickau!  Das bunte Volksfest-Programm enthä
 lt viele neue Attraktionen und natürlich auch altbewährte Fahrgeschäfte
 . Selbstverständlich gibt es auch wieder besondere Highlights.
URL:https://www.meinplaner.com
DTSTART;TZID=Europe/Amsterdam:20260425T140000
DTEND;TZID=Europe/Amsterdam:20260425T210000
LOCATION:Platz der Völkerfreundschaft \, 08056 Zwickau
BEGIN:VALARM
ACTION:DISPLAY
DESCRIPTION:Erinnerung: Frühlingsvolksfest beginnt in 1 Stunde
TRIGGER;RELATED=END:-PT1H
END:VALARM
END:VEVENT
END:VCALENDAR
