BEGIN:VCALENDAR
PRODID:-//eluceo/ical//2.0/EN
VERSION:2.0
CALSCALE:GREGORIAN
BEGIN:VEVENT
UID:b906ec30cea9da32698924845061abbb
DTSTAMP:20260420T154044Z
SUMMARY:Der Bajazzo
DESCRIPTION:Wie viel echtes Leben steckt in der Kunst? In dem packenden Dra
 ma aus Liebe\, Eifersucht\, Rache und Verrat verschwimmen die Grenzen zwis
 chen Bühne und Realität. Wenn zwei Morde die Vorstellung erschüttern\, 
 bleibt nur die Frage: War es gespielt – oder doch echt?
URL:https://www.meinplaner.com
DTSTART;TZID=Europe/Amsterdam:20260512T190000
DTEND;TZID=Europe/Amsterdam:20260512T210000
LOCATION:Theaterplatz  2\, 09111 Chemnitz
BEGIN:VALARM
ACTION:DISPLAY
DESCRIPTION:Erinnerung: Der Bajazzo beginnt in 1 Stunde
TRIGGER;RELATED=END:-PT1H
END:VALARM
END:VEVENT
END:VCALENDAR
