BEGIN:VCALENDAR
PRODID:-//eluceo/ical//2.0/EN
VERSION:2.0
CALSCALE:GREGORIAN
BEGIN:VEVENT
UID:9687446555bbdf7e6fea612525127ee6
DTSTAMP:20260422T123231Z
SUMMARY:Wordclock-Workshop - Deine eigene Zeit in Worten
DESCRIPTION:Eine Uhr\, die Zeit in leuchtenden Worten zeigt: Im Wordclock-W
 orkshop wird gelötet\, geschraubt und getüftelt. Schritt für Schritt zu
 r eigenen Wort-Uhr – auch ohne Vorkenntnisse. Mit Geduld entsteht ein ec
 htes Unikat für Zuhause.
URL:https://www.meinplaner.com
DTSTART;TZID=Europe/Amsterdam:20260516T100000
DTEND;TZID=Europe/Amsterdam:20260516T150000
LOCATION:Markt 14\, 09573 Augustusburg
BEGIN:VALARM
ACTION:DISPLAY
DESCRIPTION:Erinnerung: Wordclock-Workshop - Deine eigene Zeit in Worten be
 ginnt in 1 Stunde
TRIGGER;RELATED=END:-PT1H
END:VALARM
END:VEVENT
END:VCALENDAR
