BEGIN:VCALENDAR
PRODID:-//eluceo/ical//2.0/EN
VERSION:2.0
CALSCALE:GREGORIAN
BEGIN:VEVENT
UID:4d7e1d9f1166e58d1bde0fa9b36c4dea
DTSTAMP:20260424T072417Z
SUMMARY:Ausstellung: Von da gesehen 
DESCRIPTION:Die Ausstellung vereint Arbeiten aus Malerei\, Grafik\, Fotogra
 fie und Design von sieben Kunstschaffenden mit gemeinsamen Wurzeln. Unters
 chiedliche Stile und Perspektiven zeigen eindrucksvoll individuelle Zugän
 ge zu gesellschaftlicher Wirklichkeit. 🎨🖼️
URL:https://www.meinplaner.com
DTSTART;TZID=Europe/Amsterdam:20260424T140000
DTEND;TZID=Europe/Amsterdam:20260424T180000
LOCATION:Untere  Hauptstr. 16\, 09376 Oelsnitz/Erzgeb.
BEGIN:VALARM
ACTION:DISPLAY
DESCRIPTION:Erinnerung: Ausstellung: Von da gesehen  beginnt in 1 Stunde
TRIGGER;RELATED=END:-PT1H
END:VALARM
END:VEVENT
END:VCALENDAR
