BEGIN:VCALENDAR
PRODID:-//eluceo/ical//2.0/EN
VERSION:2.0
CALSCALE:GREGORIAN
BEGIN:VEVENT
UID:608d9c7151b1ea3f1501067635bdbaec
DTSTAMP:20260419T163417Z
SUMMARY:Der Super Mario Galaxy Film
DESCRIPTION:Im Film begeben sich die Brüder Mario und Luigi mit Prinzessin
  Peach und Toad auf eine aufregende Reise durch die Galaxie\, wo sie dank 
 mysteriöser Sternkatapulten neue Planeten erkunden\, gefährlichen Gegner
 n begegnen und unerwartete Freunde finden.
URL:https://www.meinplaner.com
DTSTART;TZID=Europe/Amsterdam:20260421T154500
DTEND;TZID=Europe/Amsterdam:20260421T174500
LOCATION:Hartensteiner Str. 11\, 08289 Schneeberg
BEGIN:VALARM
ACTION:DISPLAY
DESCRIPTION:Erinnerung: Der Super Mario Galaxy Film beginnt in 1 Stunde
TRIGGER;RELATED=END:-PT1H
END:VALARM
END:VEVENT
END:VCALENDAR
