BEGIN:VCALENDAR
PRODID:-//eluceo/ical//2.0/EN
VERSION:2.0
CALSCALE:GREGORIAN
BEGIN:VEVENT
UID:5c5072fd2d8629c2ec629c78ca37bd79
DTSTAMP:20260420T060742Z
SUMMARY:Marty Supreme
DESCRIPTION:Marty\, ein Schuhverkäufer mit großen Träumen\, glaubt fest 
 daran\, ein Tischtennis-Weltmeister zu werden. Nach einem harten Wettkampf
  in London gegen Koto Endo muss er sich der Realität stellen. Doch aufgeb
 en kommt nicht in Frage. 
URL:https://www.meinplaner.com
DTSTART;TZID=Europe/Amsterdam:20260422T190000
DTEND;TZID=Europe/Amsterdam:20260422T210000
LOCATION:Jägerstr. 24\, 09212 Limbach-Oberfrohna
BEGIN:VALARM
ACTION:DISPLAY
DESCRIPTION:Erinnerung: Marty Supreme beginnt in 1 Stunde
TRIGGER;RELATED=END:-PT1H
END:VALARM
END:VEVENT
END:VCALENDAR
