BEGIN:VCALENDAR
PRODID:-//eluceo/ical//2.0/EN
VERSION:2.0
CALSCALE:GREGORIAN
BEGIN:VEVENT
UID:dc89b15bab333ad7064daa4d7dd724df
DTSTAMP:20260421T233044Z
SUMMARY:Die Vielfalt der Japanischen Küche​
DESCRIPTION:Yuki in Chemnitz vereint japanische Tradition und moderne Küch
 e in stilvollem Ambiente. Frisches Sushi\, aromatische Ramen und kreative 
 Fusion-Gerichte schaffen ein einzigartiges Geschmackserlebnis. Eine Locati
 on für Genießer und besondere Momente.
URL:https://www.meinplaner.com
DTSTART;TZID=Europe/Amsterdam:20260422T113000
DTEND;TZID=Europe/Amsterdam:20260422T150000
LOCATION:Straße der Nationen 104\, 09111 Chemnitz
BEGIN:VALARM
ACTION:DISPLAY
DESCRIPTION:Erinnerung: Die Vielfalt der Japanischen Küche​ beginnt in 1
  Stunde
TRIGGER;RELATED=END:-PT1H
END:VALARM
END:VEVENT
BEGIN:VEVENT
UID:54ccbf66a4b6e7fd7e41d3a0afddcc42
DTSTAMP:20260421T233044Z
SUMMARY:Die Vielfalt der Japanischen Küche​
DESCRIPTION:Yuki in Chemnitz vereint japanische Tradition und moderne Küch
 e in stilvollem Ambiente. Frisches Sushi\, aromatische Ramen und kreative 
 Fusion-Gerichte schaffen ein einzigartiges Geschmackserlebnis. Eine Locati
 on für Genießer und besondere Momente.
URL:https://www.meinplaner.com
DTSTART;TZID=Europe/Amsterdam:20260422T170000
DTEND;TZID=Europe/Amsterdam:20260422T220000
LOCATION:Straße der Nationen 104\, 09111 Chemnitz
BEGIN:VALARM
ACTION:DISPLAY
DESCRIPTION:Erinnerung: Die Vielfalt der Japanischen Küche​ beginnt in 1
  Stunde
TRIGGER;RELATED=END:-PT1H
END:VALARM
END:VEVENT
END:VCALENDAR
