BEGIN:VCALENDAR
PRODID:-//eluceo/ical//2.0/EN
VERSION:2.0
CALSCALE:GREGORIAN
BEGIN:VEVENT
UID:7bc24f3a3273060441b319ce32a02304
DTSTAMP:20260419T142251Z
SUMMARY:Tanzabend am Mittwoch
DESCRIPTION:Der Mittwoch wird in der Tanzbar noch schöner: Auf Wunsch wird
  der beliebte Tanztee um einen neuen Tanzabend erweitert. Nostalgie trifft
  modernen Stil – Retro-Charme der 70er und 80er verschmilzt mit Design\,
  Musik und eleganter Atmosphäre zum Genießen.
URL:https://www.meinplaner.com
DTSTART;TZID=Europe/Amsterdam:20260422T180000
DTEND;TZID=Europe/Amsterdam:20260422T210000
LOCATION:An der Markthalle  3-5\, 09111 Chemnitz
BEGIN:VALARM
ACTION:DISPLAY
DESCRIPTION:Erinnerung: Tanzabend am Mittwoch beginnt in 1 Stunde
TRIGGER;RELATED=END:-PT1H
END:VALARM
END:VEVENT
END:VCALENDAR
