BEGIN:VCALENDAR
PRODID:-//eluceo/ical//2.0/EN
VERSION:2.0
CALSCALE:GREGORIAN
BEGIN:VEVENT
UID:7631128a7f4a314ea0521369738356d0
DTSTAMP:20260421T132404Z
SUMMARY:Frühlingshexenküche
DESCRIPTION:Frühling auf der Zunge und in den Bildern: Die Frühlingshexen
 küche verbindet Kräuterwissen\, Maienlust und Kulinarik. Ein Bildvortrag
  mit Kostproben und Lesung von Regina Röhrner im Rahmen der Kulturtage Mi
 ttelsachsen.
URL:https://www.meinplaner.com
DTSTART;TZID=Europe/Amsterdam:20260509T160000
DTEND;TZID=Europe/Amsterdam:20260509T180000
LOCATION:Schloßstr. 1\, 09328 Lunzenau
BEGIN:VALARM
ACTION:DISPLAY
DESCRIPTION:Erinnerung: Frühlingshexenküche beginnt in 1 Stunde
TRIGGER;RELATED=END:-PT1H
END:VALARM
END:VEVENT
END:VCALENDAR
