BEGIN:VCALENDAR
PRODID:-//eluceo/ical//2.0/EN
VERSION:2.0
CALSCALE:GREGORIAN
BEGIN:VEVENT
UID:20091587a8350cba232dba5a46941cd6
DTSTAMP:20260424T123238Z
SUMMARY:19. Hoffest bei Bauer Ziegs
DESCRIPTION:Groß und Klein erleben einen Tag voller Spiel und Spaß: Kinde
 r können reiten\, auf der Hüpfburg toben\, in der Holzwerkstatt werkeln 
 und Traktor fahren. Die FFW lädt zu Mitmachaktionen ein. Der Hof bietet L
 eckeres\, Livemusik und Tanz sorgen für Stimmung.
URL:https://www.meinplaner.com
DTSTART;TZID=Europe/Amsterdam:20260530T100000
DTEND;TZID=Europe/Amsterdam:20260530T235900
LOCATION:Chemnitzer Str.  78\, 09387 Jahnsdorf/Erzgeb.
BEGIN:VALARM
ACTION:DISPLAY
DESCRIPTION:Erinnerung: 19. Hoffest bei Bauer Ziegs beginnt in 1 Stunde
TRIGGER;RELATED=END:-PT1H
END:VALARM
END:VEVENT
END:VCALENDAR
