BEGIN:VCALENDAR
PRODID:-//eluceo/ical//2.0/EN
VERSION:2.0
CALSCALE:GREGORIAN
BEGIN:VEVENT
UID:cf950efe7476b1c4ca4860473b1270d0
DTSTAMP:20260420T153944Z
SUMMARY:28. Chemnitzer Schultheaterwoche: Momo
DESCRIPTION:Die Dorfbewohner:innen schließen Freundschaft mit dem geheimni
 svollen Mädchen Momo. Doch plötzlich tauchen graue Herren auf und stehle
 n den Menschen ihre Zeit – und ihre Freude. Gemeinsam versuchen Momo und
  die Kinder\, die Bedrohung aufzuhalten.
URL:https://www.meinplaner.com
DTSTART;TZID=Europe/Amsterdam:20260422T100000
DTEND;TZID=Europe/Amsterdam:20260422T120000
LOCATION:Altchemnitzer Str. 27\, 09120 Chemnitz
BEGIN:VALARM
ACTION:DISPLAY
DESCRIPTION:Erinnerung: 28. Chemnitzer Schultheaterwoche: Momo beginnt in 1
  Stunde
TRIGGER;RELATED=END:-PT1H
END:VALARM
END:VEVENT
END:VCALENDAR
