BEGIN:VCALENDAR
PRODID:-//eluceo/ical//2.0/EN
VERSION:2.0
CALSCALE:GREGORIAN
BEGIN:VEVENT
UID:d95f6b599d8adffe46e8010058a0d132
DTSTAMP:20260422T225804Z
SUMMARY:Kreativzeit 
DESCRIPTION:Kreativzeit für alle Generationen: Unter der Leitung von Mandy
  Muschkowski lädt das offene Angebot zum gemeinsamen Gestalten ein. Ohne 
 Vorkenntnisse wird mit Acryl-\, Aquarell- und Collage-Techniken gearbeitet
 . Materialien werden gemeinsam abgestimmt.
URL:https://www.meinplaner.com
DTSTART;TZID=Europe/Amsterdam:20260429T150000
DTEND;TZID=Europe/Amsterdam:20260429T173000
LOCATION:Schlossallee  2\, 09350 Lichtenstein/Sa.
BEGIN:VALARM
ACTION:DISPLAY
DESCRIPTION:Erinnerung: Kreativzeit  beginnt in 1 Stunde
TRIGGER;RELATED=END:-PT1H
END:VALARM
END:VEVENT
END:VCALENDAR
