BEGIN:VCALENDAR
PRODID:-//eluceo/ical//2.0/EN
VERSION:2.0
CALSCALE:GREGORIAN
BEGIN:VEVENT
UID:3a8115d20238cb47ad5654d6839bb575
DTSTAMP:20260419T133836Z
SUMMARY:Brauereibesichtigung
DESCRIPTION:Die Welt des Bierbrauens an einem der historischsten Orte Deuts
 chlands erleben: Tägliche Führungen um 10:00 und 14:00 Uhr für Gruppen 
 ab 6 Personen. Voranmeldung erforderlich\, festes Schuhwerk empfohlen\, ni
 cht barrierefrei.
URL:https://www.meinplaner.com
DTSTART;TZID=Europe/Amsterdam:20260420T140000
DTEND;TZID=Europe/Amsterdam:20260420T160000
LOCATION:Bergstr. 2\, 08237 Steinberg
BEGIN:VALARM
ACTION:DISPLAY
DESCRIPTION:Erinnerung: Brauereibesichtigung beginnt in 1 Stunde
TRIGGER;RELATED=END:-PT1H
END:VALARM
END:VEVENT
END:VCALENDAR
