BEGIN:VCALENDAR
PRODID:-//eluceo/ical//2.0/EN
VERSION:2.0
CALSCALE:GREGORIAN
BEGIN:VEVENT
UID:18b41d25cc727bc6b42e314ce57603be
DTSTAMP:20260425T165645Z
SUMMARY:Is This Thing on?
DESCRIPTION:Die Ehe von Alex und Tess zerbricht. Beide stehen vor neuen Her
 ausforderungen. In der New Yorker Comedy-Szene sucht Alex nach Sinn\, wäh
 rend Tess ihre eigenen Bedürfnisse entdeckt. Co-Parenting und Identitäts
 fragen prägen ihren Weg zur Neuorientierung.
URL:https://www.meinplaner.com
DTSTART;TZID=Europe/Amsterdam:20260426T193000
DTEND;TZID=Europe/Amsterdam:20260426T213000
LOCATION:Zwickauer Str. 11\, 09112 Chemnitz
BEGIN:VALARM
ACTION:DISPLAY
DESCRIPTION:Erinnerung: Is This Thing on? beginnt in 1 Stunde
TRIGGER;RELATED=END:-PT1H
END:VALARM
END:VEVENT
END:VCALENDAR
