BEGIN:VCALENDAR
PRODID:-//eluceo/ical//2.0/EN
VERSION:2.0
CALSCALE:GREGORIAN
BEGIN:VEVENT
UID:2dab13ed85ccece7d2d434e17f04a1a3
DTSTAMP:20260424T115314Z
SUMMARY:MUMM Sauna Event
DESCRIPTION:Eine entspannte Auszeit voller Wärme\, Düften und Wohlfühlmo
 menten: Beim MUMM Sauna Event sorgen besondere Aufgüsse\, sanfte Musik & 
 eine ruhige Atmosphäre für echte Erholung. Perfekt\, um abzuschalten\, n
 eue Energie zu tanken und den Alltag hinter sich zu lassen.
URL:https://www.meinplaner.com
DTSTART;TZID=Europe/Amsterdam:20260501T140000
DTEND;TZID=Europe/Amsterdam:20260501T180000
LOCATION:Chemnitzer Str.  133\, 09599 Freiberg
BEGIN:VALARM
ACTION:DISPLAY
DESCRIPTION:Erinnerung: MUMM Sauna Event beginnt in 1 Stunde
TRIGGER;RELATED=END:-PT1H
END:VALARM
END:VEVENT
END:VCALENDAR
