BEGIN:VCALENDAR
PRODID:-//eluceo/ical//2.0/EN
VERSION:2.0
CALSCALE:GREGORIAN
BEGIN:VEVENT
UID:37b8b964be3f65aa2bccba688656a79d
DTSTAMP:20260419T133806Z
SUMMARY:Studieninformationstag
DESCRIPTION:Welches Studienangebot ist das richtige? Was macht die Studieng
 änge an der HSMW einzigartig? Und wie kann das Leben und Studieren in ein
 er Hochschulstadt wie Mittweida aussehen? All diese Fragen werden auf dem 
 Campus in Mittweida beantwortet.
URL:https://www.meinplaner.com
DTSTART;TZID=Europe/Amsterdam:20260823T090000
DTEND;TZID=Europe/Amsterdam:20260823T140000
LOCATION:Technikumplatz 17\, 09648 Mittweida
BEGIN:VALARM
ACTION:DISPLAY
DESCRIPTION:Erinnerung: Studieninformationstag beginnt in 1 Stunde
TRIGGER;RELATED=END:-PT1H
END:VALARM
END:VEVENT
END:VCALENDAR
