BEGIN:VCALENDAR
PRODID:-//eluceo/ical//2.0/EN
VERSION:2.0
CALSCALE:GREGORIAN
BEGIN:VEVENT
UID:e7fd641b3b0a85e9eea26a5f287b11ea
DTSTAMP:20260425T032326Z
SUMMARY:Workshop: Küche trifft Kunst: Vom Lebensmittel zur Farbe
DESCRIPTION:Aus Obst\, Gemüse und Gewürzen entstehen selbst hergestellte 
 Naturfarben\, die anschließend auf Papier gebracht werden. Der Workshop v
 erbindet Kunst und Lebensmittel und lädt zum kreativen Experimentieren ei
 n.
URL:https://www.meinplaner.com
DTSTART;TZID=Europe/Amsterdam:20260425T130000
DTEND;TZID=Europe/Amsterdam:20260425T150000
LOCATION:Stollberger Str. 2\, 09112 Chemnitz
BEGIN:VALARM
ACTION:DISPLAY
DESCRIPTION:Erinnerung: Workshop: Küche trifft Kunst: Vom Lebensmittel zur
  Farbe beginnt in 1 Stunde
TRIGGER;RELATED=END:-PT1H
END:VALARM
END:VEVENT
END:VCALENDAR
