BEGIN:VCALENDAR
PRODID:-//eluceo/ical//2.0/EN
VERSION:2.0
CALSCALE:GREGORIAN
BEGIN:VEVENT
UID:97a1019716ef2da433361bf3fef9d989
DTSTAMP:20260425T014111Z
SUMMARY:Farm der Tiere
DESCRIPTION:Auf der Manor Farm revoltieren die Tiere gegen Bauer Jones\, in
 spiriert von Old Major und geführt von Napoleon und Schneeball. Anfangs e
 rfolgreich\, führt Napoleons Machtgier zu Ungleichheit. 
URL:https://www.meinplaner.com
DTSTART;TZID=Europe/Amsterdam:20260425T200000
DTEND;TZID=Europe/Amsterdam:20260425T220000
LOCATION:Altchemnitzer Str. 27\, 09120 Chemnitz
BEGIN:VALARM
ACTION:DISPLAY
DESCRIPTION:Erinnerung: Farm der Tiere beginnt in 1 Stunde
TRIGGER;RELATED=END:-PT1H
END:VALARM
END:VEVENT
END:VCALENDAR
