BEGIN:VCALENDAR
PRODID:-//eluceo/ical//2.0/EN
VERSION:2.0
CALSCALE:GREGORIAN
BEGIN:VEVENT
UID:426aaa7b93bc1e7542fa9f4b8978e905
DTSTAMP:20260419T163357Z
SUMMARY:3-2-1 Liftoff!
DESCRIPTION:Diese faszinierende Fulldome-Show für Kinder und Familien nimm
 t das Publikum mit auf eine spannende Reise ins Weltall. Gemeinsam mit Ann
 a\, Max und ihrem Hamster Eddie lernen die Zuschauer spielerisch die Grund
 lagen der Raumfahrt und Astronomie kennen.
URL:https://www.meinplaner.com
DTSTART;TZID=Europe/Amsterdam:20260614T160000
DTEND;TZID=Europe/Amsterdam:20260614T180000
LOCATION:Heinrich-Heine-Str. 13 a \, 08289 Schneeberg
BEGIN:VALARM
ACTION:DISPLAY
DESCRIPTION:Erinnerung: 3-2-1 Liftoff! beginnt in 1 Stunde
TRIGGER;RELATED=END:-PT1H
END:VALARM
END:VEVENT
END:VCALENDAR
