BEGIN:VCALENDAR
PRODID:-//eluceo/ical//2.0/EN
VERSION:2.0
CALSCALE:GREGORIAN
BEGIN:VEVENT
UID:4a5b4159a8b64142d92615dde7010c16
DTSTAMP:20260421T142909Z
SUMMARY:Öffentliche Führung: Mahlzeit! Feinkunsthalle
DESCRIPTION:Öffentliche Führung durch die Feinkunsthalle im Museum Gunzen
 hauser. Der Rundgang zeigt\, wie Essen in der Kunst als Ausdruck von Kultu
 r\, Identität\, Genuss und sozialen Fragen thematisiert wird. Teil der Au
 sstellungsreihe „Mahlzeit!“.
URL:https://www.meinplaner.com
DTSTART;TZID=Europe/Amsterdam:20260425T143000
DTEND;TZID=Europe/Amsterdam:20260425T163000
LOCATION:Stollberger Str. 2\, 09112 Chemnitz
BEGIN:VALARM
ACTION:DISPLAY
DESCRIPTION:Erinnerung: Öffentliche Führung: Mahlzeit! Feinkunsthalle beg
 innt in 1 Stunde
TRIGGER;RELATED=END:-PT1H
END:VALARM
END:VEVENT
END:VCALENDAR
