BEGIN:VCALENDAR
PRODID:-//eluceo/ical//2.0/EN
VERSION:2.0
CALSCALE:GREGORIAN
BEGIN:VEVENT
UID:b38b5348e6b8b7413fda79dda397eb96
DTSTAMP:20260421T233725Z
SUMMARY:Kulturhauptstadt Specials: Stein und Genuss
DESCRIPTION:Die Kombination aus entspannender Seifenschaummassage und wohlt
 uenden Lava-Steinen\, ergänzt durch eine kühlende Gesichtskompresse und 
 eine exquisite Flasche Rotwein der „Weinfreunde“ Chemnitz sorgt für v
 ollkommene Entspannung.
URL:https://www.meinplaner.com
DTSTART;TZID=Europe/Amsterdam:20260422T120000
DTEND;TZID=Europe/Amsterdam:20260422T170000
LOCATION:Schönherrstr. 8\, 09113 Chemnitz
BEGIN:VALARM
ACTION:DISPLAY
DESCRIPTION:Erinnerung: Kulturhauptstadt Specials: Stein und Genuss beginnt
  in 1 Stunde
TRIGGER;RELATED=END:-PT1H
END:VALARM
END:VEVENT
END:VCALENDAR
