BEGIN:VCALENDAR
PRODID:-//eluceo/ical//2.0/EN
VERSION:2.0
CALSCALE:GREGORIAN
BEGIN:VEVENT
UID:6a5b81ce5e4799e6f769a50e6097517f
DTSTAMP:20260423T021551Z
SUMMARY:Parksommer 2026
DESCRIPTION:Im Stadthallenpark finden rund 85 Veranstaltungen statt\, von I
 ndie bis Klassik\, Jazz und Yoga. Auf der 360-Grad-Bühne und in entspannt
 er Atmosphäre erleben Besucher:innen ein abwechslungsreiches Programm fü
 r alle Altersgruppen.
URL:https://www.meinplaner.com
DTSTART;TZID=Europe/Amsterdam:20260702T100000
DTEND;TZID=Europe/Amsterdam:20260702T170000
LOCATION:Theaterstraße  3\, 09111 Chemnitz
BEGIN:VALARM
ACTION:DISPLAY
DESCRIPTION:Erinnerung: Parksommer 2026 beginnt in 1 Stunde
TRIGGER;RELATED=END:-PT1H
END:VALARM
END:VEVENT
END:VCALENDAR
