BEGIN:VCALENDAR
PRODID:-//eluceo/ical//2.0/EN
VERSION:2.0
CALSCALE:GREGORIAN
BEGIN:VEVENT
UID:4f6179fa93ebee533fbe6808fbe7ae64
DTSTAMP:20260421T234844Z
SUMMARY:80 Jahre Klaus Renft
DESCRIPTION:Der Musiker Andreas Schirneck nimmt den 80. Geburtstag der ostd
 eutschen Rocklegende Klaus Renft zum Anlass\, mit einer Hommage auf Tour z
 u gehen. Mittels selten gezeigter Fotos\, Filmausschnitten & Originaldokum
 enten wird ein Portrait Renfts (†2006) gezeichnet.
URL:https://www.meinplaner.com
DTSTART;TZID=Europe/Amsterdam:20260502T190000
DTEND;TZID=Europe/Amsterdam:20260502T210000
LOCATION:Herrenstr. 25\, 09366 Stollberg/Erzgeb.
BEGIN:VALARM
ACTION:DISPLAY
DESCRIPTION:Erinnerung: 80 Jahre Klaus Renft beginnt in 1 Stunde
TRIGGER;RELATED=END:-PT1H
END:VALARM
END:VEVENT
END:VCALENDAR
