BEGIN:VCALENDAR
PRODID:-//eluceo/ical//2.0/EN
VERSION:2.0
CALSCALE:GREGORIAN
BEGIN:VEVENT
UID:2e86ac4fe0a1fef819beeb7fe6d6bba7
DTSTAMP:20260424T111257Z
SUMMARY:Sprachcafé
DESCRIPTION:Sprachcafé – Ein offener Treff für alle\, die gern miteinan
 der ins Gespräch kommen\, Sprachen üben und voneinander lernen möchten.
  In entspannter Atmosphäre entstehen Austausch\, neue Kontakte und gemein
 same Lernerfahrungen.
URL:https://www.meinplaner.com
DTSTART;TZID=Europe/Amsterdam:20260504T150000
DTEND;TZID=Europe/Amsterdam:20260504T170000
LOCATION:Moritzstr. 20\, 09111 Chemnitz
BEGIN:VALARM
ACTION:DISPLAY
DESCRIPTION:Erinnerung: Sprachcafé beginnt in 1 Stunde
TRIGGER;RELATED=END:-PT1H
END:VALARM
END:VEVENT
END:VCALENDAR
