BEGIN:VCALENDAR
PRODID:-//eluceo/ical//2.0/EN
VERSION:2.0
CALSCALE:GREGORIAN
BEGIN:VEVENT
UID:f9f91887e53e38b85191fb62500d78bd
DTSTAMP:20260423T140350Z
SUMMARY:Flohmarkt in der Miniwelt
DESCRIPTION:Trödeln\, Stöbern & Entdecken – der Flohmarkt für die ganz
 e Familie! Ob Sammler oder Schnäppchenjäger\, hier findet jeder seinen S
 chatz. Bummeln\, Feilschen und Spaß haben – ein Erlebnis für Groß und
  Klein.
URL:https://www.meinplaner.com
DTSTART;TZID=Europe/Amsterdam:20260503T100000
DTEND;TZID=Europe/Amsterdam:20260503T170000
LOCATION:Chemnitzer Str. 43\, 09350 Lichtenstein/Sa.
BEGIN:VALARM
ACTION:DISPLAY
DESCRIPTION:Erinnerung: Flohmarkt in der Miniwelt beginnt in 1 Stunde
TRIGGER;RELATED=END:-PT1H
END:VALARM
END:VEVENT
END:VCALENDAR
