BEGIN:VCALENDAR
PRODID:-//eluceo/ical//2.0/EN
VERSION:2.0
CALSCALE:GREGORIAN
BEGIN:VEVENT
UID:236c3076a1ba2d51a96aedb05bb53328
DTSTAMP:20260424T072756Z
SUMMARY:Industrie.Kultur.Rallye.
DESCRIPTION:Glauchau neu entdecken:  mit GPS-Gerät und Roadbook begeben si
 ch Teilnehmende auf eine zeitgemäße Stadtrallye. Jedes Team sammelt auf 
 der spannende Spurensuche zur Industriegeschichte von gestern\, heute und 
 morgen Punkte für den Sieg.
URL:https://www.meinplaner.com
DTSTART;TZID=Europe/Amsterdam:20260426T130000
DTEND;TZID=Europe/Amsterdam:20260426T150000
LOCATION:Schloßplatz 5a\, 08371 Glauchau
BEGIN:VALARM
ACTION:DISPLAY
DESCRIPTION:Erinnerung: Industrie.Kultur.Rallye. beginnt in 1 Stunde
TRIGGER;RELATED=END:-PT1H
END:VALARM
END:VEVENT
END:VCALENDAR
