BEGIN:VCALENDAR
PRODID:-//eluceo/ical//2.0/EN
VERSION:2.0
CALSCALE:GREGORIAN
BEGIN:VEVENT
UID:6008ee0b0c8b12e27b5acb0012463ad3
DTSTAMP:20260425T165645Z
SUMMARY:Star Wars: The Mandalorian and Grogu
DESCRIPTION:Nach dem Fall des Dunklen Imperiums und der Zerstreuung der imp
 erialen Kriegsherren über die Galaxis kämpft die Neue Republik\, unterst
 ützt von dem legendären mandalorianischen Kopfgeldjäger Din Djarin und 
 seinem jungen Lehrling Grogu\, um den Frieden zu wahren.
URL:https://www.meinplaner.com
DTSTART;TZID=Europe/Amsterdam:20260522T193000
DTEND;TZID=Europe/Amsterdam:20260522T213000
LOCATION:Jägerstr. 24\, 09212 Limbach-Oberfrohna
BEGIN:VALARM
ACTION:DISPLAY
DESCRIPTION:Erinnerung: Star Wars: The Mandalorian and Grogu beginnt in 1 S
 tunde
TRIGGER;RELATED=END:-PT1H
END:VALARM
END:VEVENT
END:VCALENDAR
