BEGIN:VCALENDAR
PRODID:-//eluceo/ical//2.0/EN
VERSION:2.0
CALSCALE:GREGORIAN
BEGIN:VEVENT
UID:0705d2fb5f29cbfd957c2127813b989f
DTSTAMP:20260421T162655Z
SUMMARY:Tradition trifft Moderne & gutbürgerliche Küche auf moderne Kreat
 ionen
DESCRIPTION:Tradition trifft Moderne – eine gelungene Kombination im Muse
 um & im Restaurant mit Namen August Horch. Gutbürgerliche deutsche Küche
  vereint mit saisonalen Spezialitäten verbindet sich zu modernen & belieb
 ten Kreationen – in gelungenem zeitgemäßem Ambiente.
URL:https://www.meinplaner.com
DTSTART;TZID=Europe/Amsterdam:20260421T090000
DTEND;TZID=Europe/Amsterdam:20260421T170000
LOCATION:Audistraße 7\, 08058 Zwickau
BEGIN:VALARM
ACTION:DISPLAY
DESCRIPTION:Erinnerung: Tradition trifft Moderne & gutbürgerliche Küche a
 uf moderne Kreationen beginnt in 1 Stunde
TRIGGER;RELATED=END:-PT1H
END:VALARM
END:VEVENT
END:VCALENDAR
