BEGIN:VCALENDAR
PRODID:-//eluceo/ical//2.0/EN
VERSION:2.0
CALSCALE:GREGORIAN
BEGIN:VEVENT
UID:70420f1a91933d1a347bdbcbdb63811c
DTSTAMP:20260422T072715Z
SUMMARY:Offene Textilwerkstatt: Gemeinsam reparieren und kreativ gestalten!
DESCRIPTION:In der Textilwerkstatt wird gemeinsam genäht\, repariert und u
 pgecycelt\, während Austausch und Unterstützung im Vordergrund stehen\; 
 ein Materialfundus und professionelle Maschinen schaffen eine kreative Atm
 osphäre für alle\, die Freude am Handarbeiten haben.
URL:https://www.meinplaner.com
DTSTART;TZID=Europe/Amsterdam:20260504T170000
DTEND;TZID=Europe/Amsterdam:20260504T200000
LOCATION:Markt 14\, 09573 Augustusburg
BEGIN:VALARM
ACTION:DISPLAY
DESCRIPTION:Erinnerung: Offene Textilwerkstatt: Gemeinsam reparieren und kr
 eativ gestalten! beginnt in 1 Stunde
TRIGGER;RELATED=END:-PT1H
END:VALARM
END:VEVENT
END:VCALENDAR
