BEGIN:VCALENDAR
PRODID:-//eluceo/ical//2.0/EN
VERSION:2.0
CALSCALE:GREGORIAN
BEGIN:VEVENT
UID:b5551626c77584a898e1b20870bc41cc
DTSTAMP:20260425T200502Z
SUMMARY:Willkommen in Italien im feinen Ambiente
DESCRIPTION:Unten Kaffee und Torte\, ein paar Stufen nach oben beste italie
 nische Küche. Eine feine Symbiose ist im Kaffeehaus Michaelis gelungen. D
 as „di sopra“ hat mit seinen Chefkoch Torsten Wolf einen Gaumenkomposi
 teur erster Klasse gewonnen. Buon appetito.
URL:https://www.meinplaner.com
DTSTART;TZID=Europe/Amsterdam:20260425T113000
DTEND;TZID=Europe/Amsterdam:20260425T143000
LOCATION:Düsseldorfer Platz 1\, 09111 Chemnitz
BEGIN:VALARM
ACTION:DISPLAY
DESCRIPTION:Erinnerung: Willkommen in Italien im feinen Ambiente beginnt in
  1 Stunde
TRIGGER;RELATED=END:-PT1H
END:VALARM
END:VEVENT
BEGIN:VEVENT
UID:821df14f0611d69ee97d2b658b95bc3b
DTSTAMP:20260425T200502Z
SUMMARY:Willkommen in Italien im feinen Ambiente
DESCRIPTION:Unten Kaffee und Torte\, ein paar Stufen nach oben beste italie
 nische Küche. Eine feine Symbiose ist im Kaffeehaus Michaelis gelungen. D
 as „di sopra“ hat mit seinen Chefkoch Torsten Wolf einen Gaumenkomposi
 teur erster Klasse gewonnen. Buon appetito.
URL:https://www.meinplaner.com
DTSTART;TZID=Europe/Amsterdam:20260425T173000
DTEND;TZID=Europe/Amsterdam:20260425T223000
LOCATION:Düsseldorfer Platz 1\, 09111 Chemnitz
BEGIN:VALARM
ACTION:DISPLAY
DESCRIPTION:Erinnerung: Willkommen in Italien im feinen Ambiente beginnt in
  1 Stunde
TRIGGER;RELATED=END:-PT1H
END:VALARM
END:VEVENT
END:VCALENDAR
