BEGIN:VCALENDAR
PRODID:-//eluceo/ical//2.0/EN
VERSION:2.0
CALSCALE:GREGORIAN
BEGIN:VEVENT
UID:37c783cbed451db42ea7170dc834cb12
DTSTAMP:20260419T164245Z
SUMMARY:Das Markthaus im Pumpwerk
DESCRIPTION:Denkmalgeschützt\, sehenswert und für Genießer ein Festmahl.
  Die einzigartigen Innenräume mit historischen Apparaturen und moderner K
 unst sind nicht nur Kulisse für hochwertige Produkte wie Fleisch\, Pasta 
 und Käse - sondern zum Mitnehmen oder gleich genießen. 
URL:https://www.meinplaner.com
DTSTART;TZID=Europe/Amsterdam:20260422T120000
DTEND;TZID=Europe/Amsterdam:20260422T190000
LOCATION:Zschopauer Str.  209\, 09126 Chemnitz
BEGIN:VALARM
ACTION:DISPLAY
DESCRIPTION:Erinnerung: Das Markthaus im Pumpwerk beginnt in 1 Stunde
TRIGGER;RELATED=END:-PT1H
END:VALARM
END:VEVENT
END:VCALENDAR
