BEGIN:VCALENDAR
PRODID:-//eluceo/ical//2.0/EN
VERSION:2.0
CALSCALE:GREGORIAN
BEGIN:VEVENT
UID:32edf5a122014a17b61f87d51d54e176
DTSTAMP:20260419T223455Z
SUMMARY:Spargelzeit im Vogelsiedler
DESCRIPTION:Zum Frühlingsanfang startet die neue Karte mit frischem Sparge
 l. Saisonale Spezialitäten laden zum Genießen ein und bringen frische\, 
 leichte Küche auf den Tisch.
URL:https://www.meinplaner.com
DTSTART;TZID=Europe/Amsterdam:20260420T160000
DTEND;TZID=Europe/Amsterdam:20260420T210000
LOCATION:Lerchenweg  60\, 08066 Zwickau
BEGIN:VALARM
ACTION:DISPLAY
DESCRIPTION:Erinnerung: Spargelzeit im Vogelsiedler beginnt in 1 Stunde
TRIGGER;RELATED=END:-PT1H
END:VALARM
END:VEVENT
END:VCALENDAR
