BEGIN:VCALENDAR
PRODID:-//eluceo/ical//2.0/EN
VERSION:2.0
CALSCALE:GREGORIAN
BEGIN:VEVENT
UID:6da2d5190764c637aacc90059cc65cdc
DTSTAMP:20260422T072958Z
SUMMARY:Makern im Lehngericht zum Augustusburger Naturmarkt
DESCRIPTION:Beim 8. Augustusburger Naturmarkt öffnet das Lehngericht seine
  Werkstätten und den Garten für einen Tag voller Mitmachen\, Ausprobiere
 n und Entdecken\, wo traditionelles Handwerk auf moderne Technologien trif
 ft und ein lebendiges Erlebnis für alle bietet.
URL:https://www.meinplaner.com
DTSTART;TZID=Europe/Amsterdam:20260517T100000
DTEND;TZID=Europe/Amsterdam:20260517T160000
LOCATION:Markt 14\, 09573 Augustusburg
BEGIN:VALARM
ACTION:DISPLAY
DESCRIPTION:Erinnerung: Makern im Lehngericht zum Augustusburger Naturmarkt
  beginnt in 1 Stunde
TRIGGER;RELATED=END:-PT1H
END:VALARM
END:VEVENT
END:VCALENDAR
