BEGIN:VCALENDAR
PRODID:-//eluceo/ical//2.0/EN
VERSION:2.0
CALSCALE:GREGORIAN
BEGIN:VEVENT
UID:c154c2d46ba100ac5e047e7b22836cb6
DTSTAMP:20260424T024511Z
SUMMARY:Horst Schlämmer sucht das Glück
DESCRIPTION:Horst Schlämmer\, stellv. Chefredakteur des "Grevenbroicher Ta
 gblatt"\, begibt sich auf eine abenteuerliche Reise durch Deutschland\, um
  das Lächeln der Menschen zurückzubringen\, während er Passanten\, Prom
 is und Psychologen nach dem Geheimnis des Glücks befragt.
URL:https://www.meinplaner.com
DTSTART;TZID=Europe/Amsterdam:20260424T170000
DTEND;TZID=Europe/Amsterdam:20260424T190000
LOCATION:Jägerstr. 24\, 09212 Limbach-Oberfrohna
BEGIN:VALARM
ACTION:DISPLAY
DESCRIPTION:Erinnerung: Horst Schlämmer sucht das Glück beginnt in 1 Stun
 de
TRIGGER;RELATED=END:-PT1H
END:VALARM
END:VEVENT
END:VCALENDAR
