BEGIN:VCALENDAR
PRODID:-//eluceo/ical//2.0/EN
VERSION:2.0
CALSCALE:GREGORIAN
BEGIN:VEVENT
UID:365ff3ea33be709a3782b75f8ec4f0ba
DTSTAMP:20260420T235048Z
SUMMARY:C-You Hotel
DESCRIPTION:Ein Haus mit einem sehr individuellen Charakter. Das urbane Amb
 iente der modernen Zimmer bietet Gästen alles\, was man für einen Aufent
 halt in einer Stadt braucht. Das umfangreiche Frühstücksbuffet bietet Ü
 berraschungen und ein täglich wechselndes Angebot.
URL:https://www.meinplaner.com
DTSTART;TZID=Europe/Amsterdam:20260421T000000
DTEND;TZID=Europe/Amsterdam:20260421T235900
LOCATION:Dresdner Str. 136\, 09131 Chemnitz
BEGIN:VALARM
ACTION:DISPLAY
DESCRIPTION:Erinnerung: C-You Hotel beginnt in 1 Stunde
TRIGGER;RELATED=END:-PT1H
END:VALARM
END:VEVENT
END:VCALENDAR
