BEGIN:VCALENDAR
PRODID:-//eluceo/ical//2.0/EN
VERSION:2.0
CALSCALE:GREGORIAN
BEGIN:VEVENT
UID:4572ae8bd4c2d7566bc3bbb5f8f3ee0d
DTSTAMP:20260421T044452Z
SUMMARY:Auf Stelzen und baumbewachsen - Bienvenido
DESCRIPTION:Nicht nur die ausgefallene Architektur lädt ein. Mexikanische 
 Genussvielfalt trifft hier auf ebenso perfekt gestaltete Einrichtung. Drei
  100jährige Bäume wachsen durch die Ebenen des Hauses.  Ein tolles Ambie
 nte für Nachos\, Tacos oder Chili con Carne. 
URL:https://www.meinplaner.com
DTSTART;TZID=Europe/Amsterdam:20260421T170000
DTEND;TZID=Europe/Amsterdam:20260421T220000
LOCATION:Leipziger Str. 106\, 09114 Chemnitz
BEGIN:VALARM
ACTION:DISPLAY
DESCRIPTION:Erinnerung: Auf Stelzen und baumbewachsen - Bienvenido beginnt 
 in 1 Stunde
TRIGGER;RELATED=END:-PT1H
END:VALARM
END:VEVENT
END:VCALENDAR
